BEGIN:VCALENDAR
VERSION:2.0
PRODID:-//Xocolatl House - ECPv6.15.1.1//NONSGML v1.0//EN
CALSCALE:GREGORIAN
METHOD:PUBLISH
X-ORIGINAL-URL:https://xocolatlhouse.com
X-WR-CALDESC:Events for Xocolatl House
REFRESH-INTERVAL;VALUE=DURATION:PT1H
X-Robots-Tag:noindex
X-PUBLISHED-TTL:PT1H
BEGIN:VTIMEZONE
TZID:UTC
BEGIN:STANDARD
TZOFFSETFROM:+0000
TZOFFSETTO:+0000
TZNAME:UTC
DTSTART:20250101T000000
END:STANDARD
END:VTIMEZONE
BEGIN:VEVENT
DTSTART;TZID=UTC:20250323T180000
DTEND;TZID=UTC:20250323T180000
DTSTAMP:20260420T034644
CREATED:20250310T230115Z
LAST-MODIFIED:20250310T233035Z
UID:3955-1742752800-1742752800@xocolatlhouse.com
SUMMARY:Chocolate Workshop - March 23rd
DESCRIPTION: A Journey to the Heart of Cacao!\n\nThis March\, we celebrate the hands that create\, nurture\, and transform—just like cacao. Join us for a unique cacao workshop designed for bakers\, pastry chefs\, and all chocolate lovers who appreciate its rich ancestral history.\n\n Chocolate Workshop\n What will you experience?\n Learn about cacao from its fresh fruit to its rich traditional paste Create your own handcrafted cacao paste using a metate (Mexican grinding stone) Discover the ancestral roots of chocolate while preserving its cultural heritage Enjoy Pozol\, a traditional cacao and corn beverage\n\nAt Xocolatl House\, we collaborate with 14 cacao-producing families in Tabasco. Through this workshop\, we bring their traditions to you. Your support helps keep this ancestral craft alive and ensures fair trade practices\n\n Limited spots available – Reserve your place today! Send us a direct message\, call us at (664) 104 6222\n☎ Xocolatl House Contact: (619) 638-9939\n Or pay directly at our location
URL:https://xocolatlhouse.com/event/chocolate-workshop-march-23/
LOCATION:Chocolate Workshop Location :\, Blvd. de Las Americas 5117\, Lomas de Agua Caliente\, Tijuana\, Baja California (B.C.)\, 22024\, Mexico
ATTACH;FMTTYPE=image/jpeg:https://xocolatlhouse.com/wp-content/uploads/2025/02/Xocolati-House-Showcase-900x600_0000_Fair-Trade.jpg
END:VEVENT
BEGIN:VEVENT
DTSTART;TZID=UTC:20250322T150000
DTEND;TZID=UTC:20250322T180000
DTSTAMP:20260420T034644
CREATED:20250310T180924Z
LAST-MODIFIED:20250318T174148Z
UID:3938-1742655600-1742666400@xocolatlhouse.com
SUMMARY:Pairing Dinner "The Heart Of Chocolate"
DESCRIPTION:Pairing Dinner “The Heart of Chocolate”\nEnjoy our exclusive pairing dinners in collaboration with Txoko Deli Gourmet Restaurant.\nA unique culinary experience led by Chefs Alexis Vega and Antonio Aguirre\, who will be fusing traditional Tabasqueño dishes with the guidance of our Traditional Cooks and Cacao Ambassadors.\nSome dishes will feature the famous ancestral cacao\, handcrafted 100% by our cooks.\n Schedule & Pricing: 3 PM – 4-Course Pairing Dinner | $900 MXN | $45 USD 6 PM – 5-Course Pairing Dinner | $1200 MXN | $60 USD\n\n Limited spots available – Reserve your place today!\n\n Reservations via WhatsApp: (663) 407 5951 Hostess Contact: (664) 975 5964\n☎ Xocolatl House Contact: (619) 638-9939
URL:https://xocolatlhouse.com/event/heart-of-chocolate/
LOCATION:The Heart Of Chocolate Location\, Colombia 2397\, Col. Madero (Cacho)\, Tijuana\, Baja California (B.C.)\, 22040\, Mexico
ATTACH;FMTTYPE=image/jpeg:https://xocolatlhouse.com/wp-content/uploads/2025/01/Xocolati-House-Showcase-900x600_0004_Culture.jpg
END:VEVENT
BEGIN:VEVENT
DTSTART;TZID=UTC:20250321T180000
DTEND;TZID=UTC:20250321T180000
DTSTAMP:20260420T034644
CREATED:20250310T162326Z
LAST-MODIFIED:20250310T233111Z
UID:3926-1742580000-1742580000@xocolatlhouse.com
SUMMARY:Chocolate Workshop March 21st
DESCRIPTION: A Journey to the Heart of Cacao!\n\nThis March\, we celebrate the hands that create\, nurture\, and transform—just like cacao. Join us for a unique cacao workshop designed for bakers\, pastry chefs\, and all chocolate lovers who appreciate its rich ancestral history.\n\n Chocolate Workshop\n What will you experience?\n Learn about cacao from its fresh fruit to its rich traditional paste Create your own handcrafted cacao paste using a metate (Mexican grinding stone) Discover the ancestral roots of chocolate while preserving its cultural heritage Enjoy Pozol\, a traditional cacao and corn beverage\n\nAt Xocolatl House\, we collaborate with 14 cacao-producing families in Tabasco. Through this workshop\, we bring their traditions to you. Your support helps keep this ancestral craft alive and ensures fair trade practices\n\n Limited spots available – Reserve your place today! Send us a direct message\, call us at (664) 104 6222\n☎ Xocolatl House Contact: (619) 638-9939\n Or pay directly at our location
URL:https://xocolatlhouse.com/event/chocolate-workshop/
LOCATION:Chocolate Workshop Location :\, Blvd. de Las Americas 5117\, Lomas de Agua Caliente\, Tijuana\, Baja California (B.C.)\, 22024\, Mexico
ATTACH;FMTTYPE=image/jpeg:https://xocolatlhouse.com/wp-content/uploads/2025/01/Xocolati-House-Home-Page-900x600_0005_Xocolatl-House.jpg
END:VEVENT
END:VCALENDAR